﻿BEGIN:VCALENDAR
VERSION:2.0
PRODID:-//Out of Office//Mobile app//EN
CALSCALE:GREGORIAN
METHOD:PUBLISH
BEGIN:VTIMEZONE
TZID:Europe/Berlin
X-LIC-LOCATION:Europe/Berlin
LAST-MODIFIED:20240205T192834Z
BEGIN:DAYLIGHT
TZNAME:CEST
TZOFFSETFROM:+0100
TZOFFSETTO:+0200
DTSTART:19700329T020000
RRULE:FREQ=YEARLY;BYMONTH=3;BYDAY=-1SU
END:DAYLIGHT
BEGIN:STANDARD
TZNAME:CET
TZOFFSETFROM:+0200
TZOFFSETTO:+0100
DTSTART:19701025T030000
RRULE:FREQ=YEARLY;BYMONTH=10;BYDAY=-1SU
END:STANDARD
END:VTIMEZONE
BEGIN:VEVENT
UID:04454c67-a957-457f-b3d3-de886a35bcd0
DTSTAMP:20260426T055900
DTSTART;TZID=Europe/Berlin:20221021T170000
DTEND;TZID=Europe/Berlin:20221021T210000
SUMMARY:Dorsia
DESCRIPTION:RSVP and info here: 
 https://app.oooaw.com/Redirect/Event/372
LOCATION:Dorsia
SEQUENCE:0
STATUS:CONFIRMED
CREATED:20260426T055900
LAST-MODIFIED:20260426T055900
END:VEVENT
END:VCALENDAR
